Workbook
Name Company_Name: FSM!$D$5
Name Company_Name: #REF!
Name Hist_Yr: FSM!#REF!
Name Hist_Yr: #REF!
Name IQ_CH: 110000
Name IQ_CQ: 5000
Name IQ_CY: 10000
Name IQ_DAILY: 500000
Name IQ_FH: 100000
Name IQ_FQ: 500
Name IQ_FY: 1000
Name IQ_LTM: 2000
Name IQ_MONTH: 15000
Name IQ_NTM: 6000
Name IQ_WEEK: 50000
Name IQ_YTD: 3000

Sheet FSM
C2: =Company_Name&" - Financial Statement Model" -> Commercial International Bank - Egypt - CIB S.A.E - Financial Statement Model
C3: All amounts are shown in EGP, except per-share data, ratios, and shares outstanding
C5: Company Name | D5: Commercial International Bank - Egypt - CIB S.A.E
C6: Ticker | D6: COMI.CA
C7: Latest Closing Share Price | D7: 140.07
C8: Latest Closing Share Price Date | D8: 46272
C9: Last Historical Year | D9: 46022
C10: Shares outstanding | D10: 3377936000
C12: INCOME STATEMENT
C13: Fiscal year | D13: =E13-1 -> 2020 | E13: =F13-1 -> 2021 | F13: =G13-1 -> 2022 | G13: =H13-1 -> 2023 | H13: =I13-1 -> 2024 | I13: =YEAR(D9) -> 2025 | J13: =I13+1 -> 2026 | K13: =J13+1 -> 2027 | L13: =K13+1 -> 2028 | M13: =L13+1 -> 2029 | N13: =M13+1 -> 2030
C14: Fiscal year end date | D14: =EOMONTH(E14,-12) -> 44196 | E14: =EOMONTH(F14,-12) -> 44561 | F14: =EOMONTH(G14,-12) -> 44926 | G14: =EOMONTH(H14,-12) -> 45291 | H14: =EOMONTH(I14,-12) -> 45657 | I14: =D9 -> 46022 | J14: =EOMONTH(I14,12) -> 46387 | K14: =EOMONTH(J14,12) -> 46752 | L14: =EOMONTH(K14,12) -> 47118 | M14: =EOMONTH(L14,12) -> 47483 | N14: =EOMONTH(M14,12) -> 47848
C16: Interest and similar income | D16: 42196235000 | E16: 45078169000 | F16: 55723701000 | G16: 104028379000 | H16: 182735474000 | I16: 211600177000 | J16: =J113 -> 228537480660 | K16: =K113 -> 2.3946331e+11 | L16: =L113 -> 2.468012e+11 | M16: =M113 -> 2.5845412e+11 | N16: =N113 -> 2.730526e+11
C17: Interest and similar expense | D17: -17023815000 | E17: -20112378000 | F17: -24718803000 | G17: -51098717000 | H17: -91671252000 | I17: -103900546000 | J17: =J132 -> -1.1227482e+11 | K17: =K132 -> -1.1878696e+11 | L17: =L132 -> -1.2291397e+11 | M17: =M132 -> -1.287061e+11 | N17: =N132 -> -1.3592992e+11
C18: Net Interest Income (NII) | D18: =SUM(D16:D17) -> 25172420000 | E18: =SUM(E16:E17) -> 24965791000 | F18: =SUM(F16:F17) -> 31004898000 | G18: =SUM(G16:G17) -> 52929662000 | H18: =SUM(H16:H17) -> 91064222000 | I18: =SUM(I16:I17) -> 107699631000 | J18: =SUM(J16:J17) -> 1.1626266e+11 | K18: =SUM(K16:K17) -> 1.2067636e+11 | ... N18: =SUM(N16:N17) -> 1.3712268e+11
C19: Fee and commission income | D19: 3059264000 | E19: 4045573000 | F19: 5555082000 | G19: 9049924000 | H19: 12813876000 | I19: 16036009000 | J19: =J295 -> 18907359250 | K19: =K295 -> 22004420741 | L19: =L295 -> 2.5036795e+10 | M19: =M295 -> 2.8089831e+10 | N19: =N295 -> 3.1247601e+10
C20: Fee and commission expense | D20: -983450000 | E20: -1655096000 | F20: -2476945000 | G20: -3611699000 | H20: -5728656000 | I20: -6816966000 | J20: =J298 -> -8.1120293e+09 | K20: =K298 -> -9.6531242e+09 | L20: =L298 -> -1.1486991e+10 | M20: =M298 -> -1.3669249e+10 | N20: =N298 -> -1.6266085e+10
C21: Net Fee & Commission Income | D21: =SUM(D19:D20) -> 2075814000 | E21: =SUM(E19:E20) -> 2390477000 | F21: =SUM(F19:F20) -> 3078137000 | G21: =SUM(G19:G20) -> 5438225000 | H21: =SUM(H19:H20) -> 7085220000 | I21: =SUM(I19:I20) -> 9219043000 | J21: =SUM(J19:J20) -> 1.079533e+10 | K21: =SUM(K19:K20) -> 1.2351297e+10 | ... N21: =SUM(N19:N20) -> 1.4981515e+10
C22: Dividend income | D22: 50175000 | E22: 59725000 | F22: 52411000 | G22: 234010000 | H22: 195047000 | I22: 216273000 | J22: =I22 -> 216273000 | K22: =J22 -> 216273000 | L22: =K22 -> 216273000 | M22: =L22 -> 216273000 | N22: =M22 -> 216273000
C23: Net trading income | D23: 406631000 | E23: 708297000 | F23: 2749657000 | G23: 3942939000 | H23: 20472067000 | I23: 1800665000 | J23: =J18*J47 -> 1.943833e+09 | K23: =K18*K47 -> 2.0176271e+09 | L23: =L18*L47 -> 2.0713106e+09 | M23: =M18*M47 -> 2.1692992e+09 | N23: =N18*N47 -> 2.2925985e+09
C24: Profits (Losses) on financial investments | D24: 922832000 | E24: 594863000 | F24: 1162195000 | G24: 221810000 | H24: 459337000 | I24: 775841000 | J24: =J18*J48 -> 8.375269e+08 | K24: =K18*K48 -> 8.6932205e+08 | L24: =L18*L48 -> 8.9245234e+08 | M24: =M18*M48 -> 9.3467204e+08 | N24: =N18*N48 -> 9.8779724e+08
C25: Administrative expenses | D25: -5625883000 | E25: -6182730000 | F25: -7371629000 | G25: -10076013000 | H25: -13895619000 | I25: -17561606000 | J25: =-J18*J49 -> -1.8957902e+10 | K25: =-K18*K49 -> -1.9677603e+10 | L25: =-L18*L49 -> -2.0201171e+10 | M25: =-M18*M49 -> -2.1156838e+10 | N25: =-N18*N49 -> -2.2359357e+10
C26: Other operating income (expenses) | D26: -2742996000 | E26: -1986692000 | F26: -5080138000 | G26: -6590740000 | H26: -23702991000 | I26: 604504000 | J26: =-J18*J50 -> -6.9757596e+09 | K26: =-K18*K50 -> -7.2405813e+09 | L26: =-L18*L50 -> -7.4332334e+09 | M26: =-M18*M50 -> -7.7848812e+09 | N26: =-N18*N50 -> -8.2273609e+09
C27: Goodwill amortization | D27: -27505000 | E27: -41257000 | F27: -41257000 | G27: -96268000 | H27: 0 | I27: 0 | J27: 0 | K27: =J27 -> 0 | L27: =K27 -> 0 | M27: =L27 -> 0 | N27: =M27 -> 0
C28: Intangible assets amortization | D28: -6911000 | E28: -10366000 | F28: -10366000 | G28: -24188000 | H28: 0 | I28: 0 | J28: 0 | K28: =J28 -> 0 | L28: =K28 -> 0 | M28: =L28 -> 0 | N28: =M28 -> 0
C29: Impairment release (charges) for credit losses | D29: -5018781000 | E29: -1679747000 | F29: -1584942000 | G29: -4270081000 | H29: -4523819000 | I29: 8817158000 | J29: =-J277 -> -4.6532142e+09 | K29: =-K277 -> -5.1496059e+09 | L29: =-L277 -> -5.6989512e+09 | M29: =-M277 -> -6.3068991e+09 | N29: =-N277 -> -6.9797011e+09
C30: Profits from subsidiaries acquisition | D30: 8086000 | E30: 0 | F30: 0 | G30: 0 | H30: 0 | I30: 0 | J30: 0 | K30: =J30 -> 0 | L30: =K30 -> 0 | M30: =L30 -> 0 | N30: =M30 -> 0
C31: Bank's share in profits (losses) of associates | D31: 22426000 | E31: 14996000 | F31: -17680000 | G31: -55983000 | H31: -17786000 | I31: 10512000 | J31: 0 | K31: 0 | L31: 0 | M31: 0 | N31: 0
C32: Profit Before Income Tax | D32: =D18+D21+SUM(D22:D31) -> 15236308000 | E32: =E18+E21+SUM(E22:E31) -> 18833357000 | F32: =F18+F21+SUM(F22:F31) -> 23941286000 | G32: =G18+G21+SUM(G22:G31) -> 41653373000 | H32: =H18+H21+SUM(H22:H31) -> 77135678000 | I32: =I18+I21+SUM(I22:I31) -> 111582021000 | J32: =J18+J21+SUM(J22:J31) -> 9.9468747e+10 | K32: =K18+K21+SUM(K22:K31) -> 1.0406308e+11 | ... N32: =N18+N21+SUM(N22:N31) -> 1.1803445e+11
C33: Income tax expense | D33: -5087418000 | E33: -5679734000 | F33: -6345103000 | G33: -13099948000 | H33: -23548933000 | I33: -29895128000 | J33: =J32*-J51 -> -2.5861874e+10 | K33: =K32*-K51 -> -2.7056402e+10 | L33: =L32*-L51 -> -2.7893764e+10 | M33: =M32*-M51 -> -2.9182459e+10 | N33: =N32*-N51 -> -3.0688956e+10
C34: Deferred tax assets (Liabilities) | D34: 87433000 | E34: 114135000 | F34: -1424033000 | G34: 1157542000 | H34: 1669987000 | I34: 571922000 | J34: 0 | K34: =J34 -> 0 | L34: =K34 -> 0 | M34: =L34 -> 0 | N34: =M34 -> 0
C35: Net Profit from Continued Operations | D35: =SUM(D32:D34) -> 10236323000 | E35: =SUM(E32:E34) -> 13267758000 | F35: =SUM(F32:F34) -> 16172150000 | G35: =SUM(G32:G34) -> 29710967000 | H35: =SUM(H32:H34) -> 55256732000 | I35: =SUM(I32:I34) -> 82258815000 | J35: =SUM(J32:J34) -> 7.3606873e+10 | K35: =SUM(K32:K34) -> 7.7006682e+10 | ... N35: =SUM(N32:N34) -> 8.734549e+10
C36: Discontinued operations | D36: 0 | E36: 0 | F36: 0 | G36: -42102000 | H36: 0 | I36: 0 | J36: 0 | K36: =J36 -> 0 | L36: =K36 -> 0 | M36: =L36 -> 0 | N36: =M36 -> 0
C37: Net Profit for the Year | D37: =SUM(D35:D36) -> 10236323000 | E37: =SUM(E35:E36) -> 13267758000 | F37: =SUM(F35:F36) -> 16172150000 | G37: =SUM(G35:G36) -> 29668865000 | H37: =SUM(H35:H36) -> 55256732000 | I37: =SUM(I35:I36) -> 82258815000 | J37: =SUM(J35:J36) -> 7.3606873e+10 | K37: =SUM(K35:K36) -> 7.7006682e+10 | ... N37: =SUM(N35:N36) -> 8.734549e+10
C38: Bank Shareholders | D38: =D37-D39 -> 10238157000 | E38: =E37-E39 -> 13272209000 | F38: =F37-F39 -> 16114388000 | G38: =G37-G39 -> 29634542000 | H38: =H37-H39 -> 55196394000 | I38: =I37-I39 -> 82238852000 | J38: =J37-J39 -> 7.3606873e+10 | K38: =K37-K39 -> 7.7006682e+10 | ... N38: =N37-N39 -> 8.734549e+10
C39: Non-Controlling Interest | D39: -1834000 | E39: -4451000 | F39: 57762000 | G39: 34323000 | H39: 60338000 | I39: 19963000 | J39: =J219 -> 0 | K39: =K219 -> 0 | L39: =L219 -> 0 | M39: =M219 -> 0 | N39: =N219 -> 0
C41: Total Operating Income | D41: =D18+D21+D22+D23+D24 -> 28627872000 | E41: =E18+E21+E22+E23+E24 -> 28719153000 | F41: =F18+F21+F22+F23+F24 -> 38047298000 | G41: =G18+G21+G22+G23+G24 -> 62766646000 | H41: =H18+H21+H22+H23+H24 -> 119275893000 | I41: =I18+I21+I22+I23+I24 -> 119711453000 | J41: =J18+J21+J22+J23+J24 -> 1.3005562e+11 | K41: =K18+K21+K22+K23+K24 -> 1.3613087e+11 | ... N41: =N18+N21+N22+N23+N24 -> 1.5560086e+11
C43: Growth Rates & Margins
C44: Net Interest Margin (NIM %) | D44: =D18/21578619000-1 -> 0.16654453 | E44: =E18/D18-1 -> -0.0082085473 | F44: =F18/E18-1 -> 0.24189528 | G44: =G18/F18-1 -> 0.70713872 | H44: =H18/G18-1 -> 0.72047617 | I44: =I18/H18-1 -> 0.18267777 | J44: =J18/I18-1 -> 0.079508429 | K44: =K18/J18-1 -> 0.037963141 | L44: =L18/K18-1 -> 0.02660727 | ... N44: =N18/M18-1 -> 0.056838329
C45: Net Fee & Commission Income % | E45: =E21/D21-1 -> 0.15158535 | F45: =F21/E21-1 -> 0.28766644 | G45: =G21/F21-1 -> 0.76672611 | H45: =H21/G21-1 -> 0.30285525 | I45: =I21/H21-1 -> 0.30116538 | J45: =J21/I21-1 -> 0.17098162 | K45: =K21/J21-1 -> 0.1441333 | L45: =L21/K21-1 -> 0.097034993 | ... N45: =N21/M21-1 -> 0.038898155
C46: Total Operating Income % | E46: =E41/D41-1 -> 0.003188536 | F46: =F41/E41-1 -> 0.32480571 | G46: =G41/F41-1 -> 0.64970049 | H46: =H41/G41-1 -> 0.90030694 | I46: =I41/H41-1 -> 0.0036517019 | J46: =J41/I41-1 -> 0.086409187 | K46: =K41/J41-1 -> 0.046712717 | L46: =L41/K41-1 -> 0.032954979 | ... N46: =N41/M41-1 -> 0.0550009
...

Sheet Residual Income
B2: Residual Income
B3: =FSM!C3 -> All amounts are shown in EGP, except per-share data, ratios, and shares outstanding
B4: Most recent fiscal year end | D4: 46022 | F4: Cost of equity (Ke​) | H4: =+'Cost of equity (Ke​)'!C10 -> 0.1509324 | I4: Link from Cost of equity (Ke​)
B5: End of first fiscal year | D5: =EOMONTH(D4,12) -> 46387 | F5: Share price (Public Co) | H5: =FSM!D7 -> 140.07
B6: Most recent quarter end date | D6: 46022 | F6: Share price date | H6: 46212
B7: Valuation date | D7: 46272 | F7: Implied Share Price | H7: =C47 -> 153.8076
B8: Portion of First Year Cash Flows | D8: =YEARFRAC(D7,D5) -> 0.31666667 | F8: Upside / (Downside) | H8: =H7/H5-1 -> 0.098076659 | I8: {=_xlfn.IFS(H8>15%,"BUY",H8>=0,"HOLD",H8<0,"SELL")} -> HOLD
F9: Midyear adjustment? | H9: 1
B10: Book Value Roll-Forward
C11: LTM | D11: Actual | E11: Forecasts
B12: Fiscal year ended | C12: =D7 -> 46272 | D12: =D4 -> 46022 | E12: =EOMONTH(D12,12) -> 46387 | F12: =EOMONTH(E12,12) -> 46752 | G12: =EOMONTH(F12,12) -> 47118 | H12: =EOMONTH(G12,12) -> 47483 | I12: =EOMONTH(H12,12) -> 47848
B14: Opening book value of equity | C14: =E14*(1-$D$8)+D14*$D$8 -> 2.6591694e+11 | D14: =FSM!I96 -> 231514218000 | E14: =FSM!J96 -> 2.8185966e+11 | F14: =FSM!K96 -> 3.3068016e+11 | G14: =FSM!L96 -> 3.7704209e+11 | H14: =FSM!M96 -> 4.2139307e+11 | I14: =FSM!N96 -> 4.6366631e+11
B16: Net income | C16: =E16*(1-$D$8)+D16*$D$8 -> 7.6346654e+10 | D16: =FSM!I37 -> 82258815000 | E16: =FSM!J37 -> 7.3606873e+10 | F16: =FSM!K37 -> 7.7006682e+10 | G16: =FSM!L37 -> 7.9389945e+10 | H16: =FSM!M37 -> 8.3057768e+10 | I16: =FSM!N37 -> 8.734549e+10
B17: % growth | E17: =E16/D16-1 -> -0.10517952 | F17: =F16/E16-1 -> 0.046188745 | G17: =G16/F16-1 -> 0.030948779 | H17: =H16/G16-1 -> 0.046200106 | I17: =I16/H16-1 -> 0.051623365
B19: ROE = net income ÷ opening book value | D19: =D16/D14 -> 0.35530783 | E19: =E16/E14 -> 0.26114724 | F19: =F16/F14 -> 0.23287361 | G19: =G16/G14 -> 0.2105599 | H19: =H16/H14 -> 0.19710284 | I19: =I16/I14 -> 0.18838006
B21: Cost of equity (Ke​) | D21: =$H$4 -> 0.1509324 | E21: =$H$4 -> 0.1509324 | F21: =$H$4 -> 0.1509324 | G21: =$H$4 -> 0.1509324 | H21: =$H$4 -> 0.1509324 | I21: =$H$4 -> 0.1509324
B23: ROE - Ke (value is created only when this is positive) | D23: =D19-D21 -> 0.20437543 | E23: =E19-E21 -> 0.11021484 | F23: =F19-F21 -> 0.08194121 | G23: =G19-G21 -> 0.059627498 | H23: =H19-H21 -> 0.046170436 | I23: =I19-I21 -> 0.037447664
B25: Equity charge = Ke(t) × opening book value | D25: =D21*D14 -> 3.4942997e+10 | E25: =E21*E14 -> 4.2541755e+10 | F25: =F21*F14 -> 4.991035e+10 | G25: =G21*G14 -> 5.6907868e+10 | H25: =H21*H14 -> 6.3601867e+10 | I25: =I21*I14 -> 6.998227e+10
B27: Residual income = Net income - Equity charge | E27: =E16-E25 -> 3.1065118e+10 | F27: =F16-F25 -> 2.7096332e+10 | G27: =G16-G25 -> 2.2482077e+10 | H27: =H16-H25 -> 1.9455901e+10 | I27: =I16-I25 -> 1.736322e+10
B29: ="Residual Income on "&TEXT(D7,"mmm dd, yyyy")&" valuation date" -> Residual Income on Sep 07, 2026 valuation date
D30: Val date | E30: Yr 1 - Stub | F30: Year 2 | G30: Year 3 | H30: Year 4 | I30: Year 5
B31: Date for discounting cash flows | D31: =D7 -> 46272 | E31: =IF($H$9=1,AVERAGE(E12,D31),E12) -> 46329.5 | F31: =IF($H$9=1,AVERAGE(F12,E12),F12) -> 46569.5 | G31: =IF($H$9=1,AVERAGE(G12,F12),G12) -> 46935 | H31: =IF($H$9=1,AVERAGE(H12,G12),H12) -> 47300.5 | I31: =IF($H$9=1,AVERAGE(I12,H12),I12) -> 47665.5
B32: Residual Income (Stub-Adjusted) | C32: =D8 -> 0.31666667 | E32: =E27*C32 -> 9.8372874e+09 | F32: =F27 -> 2.7096332e+10 | G32: =G27 -> 2.2482077e+10 | H32: =H27 -> 1.9455901e+10 | I32: =I27 -> 1.736322e+10
B33: Present Value of Residual Income | E33: =E32/(1+$H$4)^((E31-$D$31)/365) -> 9.6218354e+09 | F33: =F32/(1+$H$4)^((F31-$D$31)/365) -> 2.4162993e+10 | G33: =G32/(1+$H$4)^((G31-$D$31)/365) -> 1.7415791e+10 | H33: =H32/(1+$H$4)^((H31-$D$31)/365) -> 1.3092563e+10 | I33: =I32/(1+$H$4)^((I31-$D$31)/365) -> 1.0152051e+10
B35: Terminal value - growth in perpetuity approach
B36: Long term growth rate | C36: 0.1
B37: Terminal year residual income x (1+g) | C37: =I32*(1+C36) -> 1.9099542e+10
B38: ="Terminal value in "&YEAR(I12) -> Terminal value in 2030 | C38: =C37/(H4-C36) -> 3.7499789e+11
B39: Present value of terminal value | C39: =C38/(1+$H$4)^((I31-$D$31)/365) -> 2.1925643e+11
B40: Present value of stage 1 residual income | C40: =SUM(E33:I33) -> 7.4445233e+10
B41: Equity value | C41: =FSM!I96+C39+C40 -> 5.2521588e+11
B43: Valuation | E43: Shares outstanding
B45: Equity value | C45: =C41 -> 5.2521588e+11 | G45: Source doc | H45: Date | I45: Shares
B46: Shares outstanding | C46: =I51 -> 3414759000 | E46: Basic shares | G46: Consolidated FS 2025 | H46: 12/31/2025 | I46: 3377936000
B47: Equity value per share | C47: =C45/C46 -> 153.8076 | E47: Restricted stock / RSUs | I47: 36823000
E48: Options / warrants
E49: Convertible debt
E50: Convertible preferred stock
E51: Net diluted shares outstanding | I51: =SUM(I46:I50) -> 3414759000

Sheet DDM
B2: Discounted Dividends Model Valuation
B3: =FSM!C3 -> All amounts are shown in EGP, except per-share data, ratios, and shares outstanding
B4: Most recent fiscal year end | D4: 46022 | F4: Cost of equity (Ke​) | H4: =+'Cost of equity (Ke​)'!C10 -> 0.1509324 | I4: Link from Cost of equity (Ke​)
B5: End of first fiscal year | D5: =EOMONTH(D4,12) -> 46387 | F5: Share price (Public Co) | H5: =FSM!D7 -> 140.07
B6: Most recent quarter end date | D6: 46022 | F6: Share price date | H6: 46212
B7: Valuation date | D7: 46272 | F7: Implied Share Price | H7: =C39 -> 172.63271
B8: Portion of First Year Cash Flows | D8: =YEARFRAC(D7,D5) -> 0.31666667 | F8: Upside / (Downside) | H8: =H7/H5-1 -> 0.23247454 | I8: {=_xlfn.IFS(H8>15%,"BUY",H8>=0,"HOLD",H8<0,"SELL")} -> BUY
F9: Midyear adjustment? | H9: 1
B10: Dividends
C11: LTM | D11: Actual | E11: Forecasts
B12: Fiscal year ended | C12: =D7 -> 46272 | D12: =D4 -> 46022 | E12: =EOMONTH(D12,12) -> 46387 | F12: =EOMONTH(E12,12) -> 46752 | G12: =EOMONTH(F12,12) -> 47118 | H12: =EOMONTH(G12,12) -> 47483 | I12: =EOMONTH(H12,12) -> 47848
B14: Net income | D14: =FSM!I37 -> 82258815000 | E14: =FSM!J37 -> 7.3606873e+10 | F14: =FSM!K37 -> 7.7006682e+10 | G14: =FSM!L37 -> 7.9389945e+10 | H14: =FSM!M37 -> 8.3057768e+10 | I14: =FSM!N37 -> 8.734549e+10
B15: % growth | E15: =E14/D14-1 -> -0.10517952 | F15: =F14/E14-1 -> 0.046188745 | G15: =G14/F14-1 -> 0.030948779 | H15: =H14/G14-1 -> 0.046200106 | I15: =I14/H14-1 -> 0.051623365
B17: Dividend payout ratio | E17: =FSM!J223 -> 0.25 | F17: =FSM!K223 -> 0.3 | G17: =FSM!L223 -> 0.35 | H17: =FSM!M223 -> 0.4 | I17: =FSM!N223 -> 0.45
B19: Dividends paid | D19: =-FSM!I211 -> 14714434000 | E19: =E14*E17 -> 1.8401718e+10 | F19: =F14*F17 -> 2.3102005e+10 | G19: =G14*G17 -> 2.7786481e+10 | H19: =H14*H17 -> 3.3223107e+10 | I19: =I14*I17 -> 3.930547e+10
B21: ="Present Value of Dividends on "&TEXT(D7,"mmm dd, yyyy")&" valuation date" -> Present Value of Dividends on Sep 07, 2026 valuation date
D22: Val date | E22: Yr 1 - Stub | F22: Year 2 | G22: Year 3 | H22: Year 4 | I22: Year 5
B23: Date for discounting cash flows | D23: =D7 -> 46272 | E23: =IF($H$9=1,AVERAGE(E12,D23),E12) -> 46329.5 | F23: =IF($H$9=1,AVERAGE(F12,E12),F12) -> 46569.5 | G23: =IF($H$9=1,AVERAGE(G12,F12),G12) -> 46935 | H23: =IF($H$9=1,AVERAGE(H12,G12),H12) -> 47300.5 | I23: =IF($H$9=1,AVERAGE(I12,H12),I12) -> 47665.5
B24: Dividends stub adjusted | C24: =D8 -> 0.31666667 | E24: =E19*C24 -> 5.8272108e+09 | F24: =F19 -> 2.3102005e+10 | G24: =G19 -> 2.7786481e+10 | H24: =H19 -> 3.3223107e+10 | I24: =I19 -> 3.930547e+10
B25: Present value of dividends | E25: =E24/(1+$H$4)^((E23-$D$23)/365) -> 5.6995857e+09 | F25: =F24/(1+$H$4)^((F23-$D$23)/365) -> 2.0601075e+10 | G25: =G24/(1+$H$4)^((G23-$D$23)/365) -> 2.1524859e+10 | H25: =H24/(1+$H$4)^((H23-$D$23)/365) -> 2.2357003e+10 | I25: =I24/(1+$H$4)^((I23-$D$23)/365) -> 2.2981401e+10
B27: Terminal value - growth in perpetuity approach
B28: Long term growth rate | C28: 0.1
B29: Terminal year dividend x (1+g) | C29: =I24*(1+C28) -> 4.3236018e+10
B30: ="Terminal value in "&YEAR(I12) -> Terminal value in 2030 | C30: =C29/(H4-C28) -> 8.4889025e+11
B31: Present value of terminal value | C31: =C30/(1+$H$4)^((I23-$D$23)/365) -> 4.9633517e+11
B32: Present value of stage 1 dividends | C32: =SUM(E25:I25) -> 9.3163924e+10
B33: Equity value | C33: =SUM(C31:C32) -> 5.894991e+11
B35: Valuation | E35: Shares outstanding
B37: Equity value | C37: =C33 -> 5.894991e+11 | G37: Source doc | H37: Date | I37: Shares
B38: Shares outstanding | C38: =I43 -> 3414759000 | E38: Basic shares | G38: Consolidated FS 2025 | H38: 12/31/2025 | I38: 3377936000
B39: Equity value per share | C39: =C37/C38 -> 172.63271 | E39: Restricted stock / RSUs | I39: 36823000
E40: Options / warrants
E41: Convertible debt
E42: Convertible preferred stock
E43: Net diluted shares outstanding | I43: =SUM(I38:I42) -> 3414759000

Sheet Cost of equity (Ke​)
B2: Cost of equity (Ke​)
B3: =FSM!C3 -> All amounts are shown in EGP, except per-share data, ratios, and shares outstanding
B4: Cost of equity (Ke​) assumptions
B6: Risk free rate | C6: =23.06%*(1-H29) -> 0.178715
B7: Beta | C7: =IF(C21="Observed",(2/3)*C23+(1/3),C24) -> 0.70666667
B8: Market risk premium | C8: 0.1394
B10: Cost of equity (Ke​) | C10: =C6+C7*(C8-C6) -> 0.1509324
B12: Cost of equity (Ke​) sensitivity to MRP and Beta
D13: Beta
C14: =C10 -> 0.1509324 | D14: =E14-0.1 -> 0.60666667 | E14: 0.70666667 | F14: =E14+0.1 -> 0.80666667
C15: =C16-0.005 -> 0.045 | D15: 0.097594567 | E15: 0.084223067 | F15: 0.070851567
B16: Market | C16: =C17-0.005 -> 0.05 | D16: 0.1006279 | E16: 0.0877564 | F16: 0.0748849
B17: Risk | C17: 0.055 | D17: 0.10366123 | E17: 0.091289733 | F17: 0.078918233
B18: Premium | C18: =C17+0.005 -> 0.06 | D18: 0.10669457 | E18: 0.094823067 | F18: 0.082951567
C19: =C18+0.005 -> 0.065 | D19: 0.1097279 | E19: 0.0983564 | F19: 0.0869849
B21: Select Beta for model | C21: Observed
B23: Observed | C23: 0.56
B24: Industry beta | C24: =C36 -> 0.5525
B26: Industry beta
C28: Observed b | D28: Share price | E28: Dil. shares | F28: Market cap | G28: Net Debt | H28: Tax rate | I28: Delev. b
B29: Credit Agricole Egypt | C29: 0.45 | D29: 24.5 | E29: 1250000000 | F29: =E29*D29 -> 30625000000 | G29: 0 | H29: 0.225 | I29: =C29/(1+(1-H29)*(G29/F29)) -> 0.45
B30: QNB Egypt | C30: 0.38 | D30: 33.5 | E30: 2235178000 | F30: =E30*D30 -> 74878463000 | G30: 0 | H30: 0.225 | I30: =C30/(1+(1-H30)*(G30/F30)) -> 0.38
B31: Abu Dhabi Islamic Bank | C31: 0.73 | D31: 52.05 | E31: 1500000000 | F31: =E31*D31 -> 78075000000 | G31: 0 | H31: 0.225 | I31: =C31/(1+(1-H31)*(G31/F31)) -> 0.73
B32: Housing & Development Bank | C32: 0.65 | D32: 96.4 | E32: 531300000 | F32: =E32*D32 -> 51217320000 | G32: 0 | H32: 0.225 | I32: =C32/(1+(1-H32)*(G32/F32)) -> 0.65
B33: Commercial International Bank | C33: 0.56 | D33: 140.07 | E33: 3414759000 | F33: =E33*D33 -> 478305293130 | G33: 0 | H33: 0.225
B35: Industry average delevered beta | C35: =AVERAGE(I29:I32) -> 0.5525
B36: =FSM!Company_Name&" beta" -> Commercial International Bank - Egypt - CIB S.A.E beta | C36: =C35*(1+(1-H33)*(G33/F33)) -> 0.5525

Sheet Trading Comps
B2: Comparable Companies Analysis (Trading Comps)
B4: Refresh date: | C4: 46272
B6: GENERAL INFORMATION
B7: Ticker | C7: CIEB.CA | D7: QNBA.CA | E7: ADIB.CA | F7: HDBK.CA | G7: COMI.CA
B8: Company | C8: Credit Agricole Egypt S.A.E | D8: QNB Egypt S.A.E | E8: Abu Dhabi Islamic Bank - Egypt S.A.E | F8: Housing & Development Bank S.A.E | G8: Commercial International Bank - Egypt - CIB S.A.E
B9: Exchange / Currency | C9: EGX / EGP | D9: EGX / EGP | E9: EGX / EGP | F9: EGX / EGP | G9: EGX / EGP
B10: Fiscal year end | C10: 46022 | D10: 46022 | E10: 46022 | F10: 46022 | G10: 46022
B11: Last closing price | C11: 24.5 | D11: 33.5 | E11: 52.05 | F11: 96.4 | G11: 140.07
B12: Price as of | C12: =$C$4 -> 46272 | D12: =$C$4 -> 46272 | E12: =$C$4 -> 46272 | F12: =$C$4 -> 46272 | G12: =$C$4 -> 46272
B14: FULLY DILUTED SHARES
B15: Basic shares outstanding | C15: 1250000000 | D15: 2235178000 | E15: 1500000000 | F15: 531300000 | G15: 3377936000
B16: Options / RSUs / other dilution | C16: 0 | D16: 0 | E16: 0 | F16: 0 | G16: 36823000
B17: Fully diluted shares | C17: =SUM(C15:C16) -> 1250000000 | D17: =SUM(D15:D16) -> 2235178000 | E17: =SUM(E15:E16) -> 1500000000 | F17: =SUM(F15:F16) -> 531300000 | G17: =SUM(G15:G16) -> 3414759000
B19: BALANCE SHEET DATA (latest reported)
B20: Due to Banks | C20: 4200000000 | D20: 18200000000 | E20: 6100000000 | F20: 2800000000 | G20: =FSM!I78 -> 3353746000
B21: Other Loans / Subordinated Debt | C21: 0 | D21: 6300000000 | E21: 2300000000 | F21: 1300000000 | G21: =FSM!I85 -> 30471499000
B22: Issued Debt Instruments (Bonds) | C22: 0 | D22: 0 | E22: 0 | F22: 0 | G22: =FSM!I84 -> 4761558000
B23: Total Borrowings / Financial Debt | C23: =SUM(C20:C22) -> 4200000000 | D23: =SUM(D20:D22) -> 24500000000 | E23: =SUM(E20:E22) -> 8400000000 | F23: =SUM(F20:F22) -> 4100000000 | G23: =SUM(G20:G22) -> 38586803000
B24: Minority Interest (NCI) | C24: 17000 | D24: 432695000 | E24: 185000000 | F24: 28500000 | G24: =FSM!I95 -> 27876000
B25: Cash & Balances with Central Bank | C25: 8250000000 | D25: 71189334000 | E25: 18650000000 | F25: 14200000000 | G25: =FSM!I58 -> 88876452000
B26: Due from Banks | C26: 12150000000 | D26: 123439113000 | E26: 31450000000 | F26: 21500000000 | G26: =FSM!I59 -> 135236549000
B27: Treasury Bills & Sovereign Notes | C27: 15400000000 | D27: 131405754000 | E27: 32400000000 | F27: 32300000000 | G27: 144059016000
B28: Cash + Liquid Investments | C28: =SUM(C25:C27) -> 35800000000 | D28: =SUM(D25:D27) -> 326034201000 | E28: =SUM(E25:E27) -> 82500000000 | F28: =SUM(F25:F27) -> 68000000000 | G28: =SUM(G25:G27) -> 368172017000
B29: Total Customer Deposits | C29: 110200000000 | D29: 620000000000 | E29: 233402000000 | F29: 180000000000 | G29: =FSM!I79 -> 1110395693000
B30: Total Assets | C30: 128500000000 | D30: 742000000000 | E30: 332000000000 | F30: 230000000000 | G30: =FSM!I73 -> 1442494120000
B31: Total Shareholders' Equity | C31: 21450000000 | D31: 71200000000 | E31: 34500000000 | F31: 32800000000 | G31: =FSM!I94 -> 231486342000
B32: Tangible Book Value (TBV) | C32: 21450000000 | D32: 71200000000 | E32: 34500000000 | F32: 32800000000 | G32: =FSM!I94 -> 231486342000
B34: MARKET VALUATION
B35: Market capitalization | C35: =C17*C11 -> 30625000000 | D35: =D17*D11 -> 74878463000 | E35: =E17*E11 -> 78075000000 | F35: =F17*F11 -> 51217320000 | G35: =G17*G11 -> 478305293130
B37: LTM FINANCIALS
B38: Net Banking Income | C38: 11650000000 | D38: 34200000000 | E38: 21800000000 | F38: 26400000000 | G38: =FSM!I41 -> 119711453000
B39: Pre-Provision Operating Profit (PPOP) | C39: 8600000000 | D39: 25100000000 | E39: 16100000000 | F39: 21200000000 | G39: =FSM!I41+FSM!I25+FSM!I26 -> 102754351000
B40: Profit Before Tax | C40: 9450000000 | D40: 29400000000 | E40: 16800000000 | F40: 22100000000 | G40: =FSM!I32 -> 111582021000
B41: Net Income (Bank Shareholders) | C41: 6949000000 | D41: 21850000000 | E41: 12600000000 | F41: 17206000000 | G41: =FSM!I38 -> 82238852000
B42: Net Margin | C42: =C41/C38 -> 0.59648069 | D42: =D41/D38 -> 0.63888889 | E42: =E41/E38 -> 0.57798165 | F42: =F41/F38 -> 0.65174242 | G42: =G41/G38 -> 0.68697564
B44: TRADING MULTIPLES
B45: P/E (LTM) | C45: =C35/C41 -> 4.4071089 | D45: =D35/D41 -> 3.4269319 | E45: =E35/E41 -> 6.1964286 | F45: =F35/F41 -> 2.9767128 | G45: =G35/G41 -> 5.8160502
B46: P/B (LTM) | C46: =C35/C31 -> 1.4277389 | D46: =D35/D31 -> 1.0516638 | E46: =E35/E31 -> 2.2630435 | F46: =F35/F31 -> 1.5615037 | G46: =G35/G31 -> 2.0662355
B47: P/TBV (LTM) | C47: =C35/C32 -> 1.4277389 | D47: =D35/D32 -> 1.0516638 | E47: =E35/E32 -> 2.2630435 | F47: =F35/F32 -> 1.5615037 | G47: =G35/G32 -> 2.0662355
B48: ROE (LTM) | C48: =C41/C31 -> 0.3239627 | D48: =D41/D31 -> 0.30688202 | E48: =E41/E31 -> 0.36521739 | F48: =F41/F31 -> 0.52457317 | G48: =G41/G31 -> 0.35526438
...
