Workbook
Name Company_Name: FSM!$D$5
Name Company_Name: FSM!$D$5
Name Hist_Yr: FSM!#REF!
Name Hist_Yr: FSM!$D$9
Name IQ_CH: 110000
Name IQ_CQ: 5000
Name IQ_CY: 10000
Name IQ_DAILY: 500000
Name IQ_FH: 100000
Name IQ_FQ: 500
Name IQ_FY: 1000
Name IQ_LTM: 2000
Name IQ_MONTH: 15000
Name IQ_NTM: 6000
Name IQ_WEEK: 50000
Name IQ_YTD: 3000

Sheet FSM
C2: =Company_Name&" - Financial Statement Model" -> MNT Tech Holding for Financial Investments S.A.E. - Financial Statement Model
C3: All amounts are shown in EGP, except per-share data, ratios, and shares outstanding
C5: Company Name | D5: MNT Tech Holding for Financial Investments S.A.E.
C6: Ticker | D6: HALN.CA
C7: IPO offer price (not a market close) | D7: 24.5
C8: Latest Closing Share Price Date | D8: 46302
C9: Last Historical Year | D9: 46022
C10: Shares outstanding | D10: 1600000000
C12: INCOME STATEMENT
C13: Fiscal year | D13: =E13-1 -> 2023 | E13: =F13-1 -> 2024 | F13: =YEAR(D9) -> 2025 | G13: =F13+1 -> 2026 | H13: =G13+1 -> 2027 | I13: =H13+1 -> 2028 | J13: =I13+1 -> 2029 | K13: =J13+1 -> 2030
C14: Fiscal year end date | D14: =EOMONTH(E14,-12) -> 45291 | E14: =EOMONTH(F14,-12) -> 45657 | F14: =D9 -> 46022 | G14: =EOMONTH(F14,12) -> 46387 | H14: =EOMONTH(G14,12) -> 46752 | I14: =EOMONTH(H14,12) -> 47118 | J14: =EOMONTH(I14,12) -> 47483 | K14: =EOMONTH(J14,12) -> 47848
C16: Operating revenue | D16: 7607109195 | E16: 10774868616 | F16: 13181173236 | G16: =SUM(G172:G175,G177) -> 1.2540259e+10 | H16: =SUM(H172:H175,H177) -> 1.3963176e+10 | I16: =SUM(I172:I175,I177) -> 1.5409516e+10 | J16: =SUM(J172:J175,J177) -> 1.6777595e+10 | K16: =SUM(K172:K175,K177) -> 1.8103229e+10
C17: Securitization income | D17: 1805005316 | E17: 2460035446 | F17: 6629310932 | G17: =G176 -> 6.9580047e+09 | H17: =H176 -> 7.7929653e+09 | I17: =I176 -> 8.5722618e+09 | J17: =J176 -> 9.2580428e+09 | K17: =K176 -> 9.9986862e+09
C18: Total Revenue | D18: =SUM(D16:D17) -> 9412114511 | E18: =SUM(E16:E17) -> 13234904062 | F18: =SUM(F16:F17) -> 19810484168 | G18: =SUM(G16:G17) -> 1.9498264e+10 | H18: =SUM(H16:H17) -> 2.1756141e+10 | I18: =SUM(I16:I17) -> 2.3981777e+10 | J18: =SUM(J16:J17) -> 2.6035638e+10 | K18: =SUM(K16:K17) -> 2.8101915e+10
C19: Interest and commission expenses | D19: -2239890778 | E19: -4804078543 | F19: -6963884903 | G19: =-G193 -> -6.756494e+09 | H19: =-H193 -> -7.2187724e+09 | I19: =-I193 -> -7.7800368e+09 | J19: =-J193 -> -8.1829031e+09 | K19: =-K193 -> -8.4268978e+09
C20: Cost of good sold | D20: -1812939327 | E20: -2318559205 | F20: -1977621883 | G20: =-G194 -> -2.076503e+09 | H20: =-H194 -> -2.1803281e+09 | I20: =-I194 -> -2.2893445e+09 | J20: =-J194 -> -2.4038118e+09 | K20: =-K194 -> -2.5240023e+09
C21: Total Direct Costs | D21: =SUM(D19:D20) -> -4052830105 | E21: =SUM(E19:E20) -> -7122637748 | F21: =SUM(F19:F20) -> -8941506786 | G21: =SUM(G19:G20) -> -8.832997e+09 | H21: =SUM(H19:H20) -> -9.3991005e+09 | I21: =SUM(I19:I20) -> -1.0069381e+10 | J21: =SUM(J19:J20) -> -1.0586715e+10 | K21: =SUM(K19:K20) -> -1.09509e+10
C22: Net Operating Revenue (Gross Profit) | D22: =D18+D21 -> 5359284406 | E22: =E18+E21 -> 6112266314 | F22: =F18+F21 -> 10868977382 | G22: =G18+G21 -> 1.0665267e+10 | H22: =H18+H21 -> 1.2357041e+10 | I22: =I18+I21 -> 1.3912396e+10 | J22: =J18+J21 -> 1.5448923e+10 | K22: =K18+K21 -> 1.7151015e+10
C23: Total Operating Expenses (OpEx) | D23: =D49 -> -2458269956 | E23: =E49 -> -4554699152 | F23: =F49 -> -8262754773 | G23: =G49 -> -7.9903989e+09 | H23: =H49 -> -8.9294358e+09 | I23: =I49 -> -9.865605e+09 | J23: =J49 -> -1.0738125e+10 | K23: =K49 -> -1.1599007e+10
C24: EBITDA | D24: =SUM(D22:D23) -> 2901014450 | E24: =SUM(E22:E23) -> 1557567162 | F24: =SUM(F22:F23) -> 2606222609 | G24: =SUM(G22:G23) -> 2.6748679e+09 | H24: =SUM(H22:H23) -> 3.4276048e+09 | I24: =SUM(I22:I23) -> 4.0467911e+09 | J24: =SUM(J22:J23) -> 4.7107985e+09 | K24: =SUM(K22:K23) -> 5.5520085e+09
C25: Depreciation & Amortization | D25: -148645274 | E25: -212023930 | F25: -293697407 | G25: =-G166 -> -4.9610737e+08 | H25: =-H166 -> -5.9131996e+08 | I25: =-I166 -> -6.9147021e+08 | J25: =-J166 -> -7.9554354e+08 | K25: =-K166 -> -9.0159428e+08
C26: Operating Profit (EBIT) | D26: =SUM(D24:D25) -> 2752369176 | E26: =SUM(E24:E25) -> 1345543232 | F26: =SUM(F24:F25) -> 2312525202 | G26: =SUM(G24:G25) -> 2.1787605e+09 | H26: =SUM(H24:H25) -> 2.8362848e+09 | I26: =SUM(I24:I25) -> 3.3553209e+09 | J26: =SUM(J24:J25) -> 3.9152549e+09 | K26: =SUM(K24:K25) -> 4.6504142e+09
C27: Finance income | D27: 299357186 | E27: 695327630 | F27: 655970125 | G27: =G236 -> 7.6697579e+08 | H27: =H236 -> 7.8086847e+08 | I27: =I236 -> 8.5776286e+08 | J27: =J236 -> 9.291043e+08 | K27: =K236 -> 9.9655404e+08
C28: Finance Expense | D28: -111537468 | E28: -89305188 | F28: -147537853 | G28: =G235 -> -1.4454853e+08 | H28: =H235 -> -1.5812716e+08 | I28: =I235 -> -1.7369134e+08 | J28: =J235 -> -1.9092776e+08 | K28: =K235 -> -2.0933163e+08
C29: Net Finance income | D29: =SUM(D27:D28) -> 187819718 | E29: =SUM(E27:E28) -> 606022442 | F29: =SUM(F27:F28) -> 508432272 | G29: =SUM(G27:G28) -> 6.2242726e+08 | H29: =SUM(H27:H28) -> 6.2274131e+08 | I29: =SUM(I27:I28) -> 6.8407153e+08 | J29: =SUM(J27:J28) -> 7.3817654e+08 | K29: =SUM(K27:K28) -> 7.872224e+08
C30: Investments For Equity accounted Investee | D30: 13023424 | E30: 42683722 | F30: 0 | G30: =F30 -> 0 | H30: =G30 -> 0 | I30: =H30 -> 0 | J30: =I30 -> 0 | K30: =J30 -> 0
C31: Earnings Before Tax (EBT) | D31: =D26+SUM(D29:D30) -> 2953212318 | E31: =E26+SUM(E29:E30) -> 1994249396 | F31: =F26+SUM(F29:F30) -> 2820957474 | G31: =G26+SUM(G29:G30) -> 2.8011878e+09 | H31: =H26+SUM(H29:H30) -> 3.4590261e+09 | I31: =I26+SUM(I29:I30) -> 4.0393924e+09 | J31: =J26+SUM(J29:J30) -> 4.6534315e+09 | K31: =K26+SUM(K29:K30) -> 5.4376366e+09
C32: Current Income Tax | D32: -674314071 | E32: -568029961 | F32: -862455085 | G32: =-G40*G31 -> -7.8433258e+08 | H32: =-H40*H31 -> -9.6852732e+08 | I32: =-I40*I31 -> -1.1310299e+09 | J32: =-J40*J31 -> -1.3029608e+09 | K32: =-K40*K31 -> -1.5225383e+09
C33: Deferred Income Tax | D33: -12294587 | E33: -54410006 | F33: 19896350 | G33: 0 | H33: 0 | I33: 0 | J33: 0 | K33: 0
C34: Net Income | D34: =SUM(D31:D33) -> 2266603660 | E34: =SUM(E31:E33) -> 1371809429 | F34: =SUM(F31:F33) -> 1978398739 | G34: =SUM(G31:G33) -> 2.0168552e+09 | H34: =SUM(H31:H33) -> 2.4904988e+09 | I34: =SUM(I31:I33) -> 2.9083625e+09 | J34: =SUM(J31:J33) -> 3.3504707e+09 | K34: =SUM(K31:K33) -> 3.9150984e+09
C35: Equity Holders of the Parent Company | D35: =D34-D36 -> 2241046074 | E35: =E34-E36 -> 1428051431 | F35: =F34-F36 -> 2018397923 | G35: =G34-G36 -> 2.0168552e+09 | H35: =H34-H36 -> 2.4904988e+09 | I35: =I34-I36 -> 2.9083625e+09 | J35: =J34-J36 -> 3.3504707e+09 | K35: =K34-K36 -> 3.9150984e+09
C36: Non-Controlling Interest (NCI) | D36: 25557586 | E36: -56242002 | F36: -39999184 | G36: =G251 -> 0 | H36: =H251 -> 0 | I36: =I251 -> 0 | J36: =J251 -> 0 | K36: =K251 -> 0
C38: Growth Rates & Margins
C39: Revenue growth | E39: =E18/D18-1 -> 0.40615629 | F39: =F18/E18-1 -> 0.49683625 | G39: =G18/F18-1 -> -0.01576036 | H39: =H18/G18-1 -> 0.11579889 | I39: =I18/H18-1 -> 0.10229923 | J39: =J18/I18-1 -> 0.085642554 | K39: =K18/J18-1 -> 0.07936341
C40: Tax rate | D40: =-SUM(D32:D33)/D31 -> 0.23249553 | E40: =-SUM(E32:E33)/E31 -> 0.31211742 | F40: =-SUM(F32:F33)/F31 -> 0.29867828 | G40: 0.28 | H40: =G40 -> 0.28 | I40: =H40 -> 0.28 | J40: =I40 -> 0.28 | K40: =J40 -> 0.28
C42: OpEx Schedule
C43: Fiscal year | D43: =D$13 -> 2023 | E43: =E$13 -> 2024 | F43: =F$13 -> 2025 | G43: =G$13 -> 2026 | H43: =H$13 -> 2027 | I43: =I$13 -> 2028 | J43: =J$13 -> 2029 | K43: =K$13 -> 2030
C44: Fiscal year end date | D44: =D$14 -> 45291 | E44: =E$14 -> 45657 | F44: =F$14 -> 46022 | G44: =G$14 -> 46387 | H44: =H$14 -> 46752 | I44: =I$14 -> 47118 | J44: =J$14 -> 47483 | K44: =K$14 -> 47848
C46: SG&A (excluding D&A) | D46: -2664207469 | E46: -4645860157 | F46: -8122264869 | G46: =-G51*G$18 -> -7.9942551e+09 | H46: =-H51*H$18 -> -8.9199809e+09 | I46: =-I51*I$18 -> -9.832488e+09 | J46: =-J51*J$18 -> -1.0674567e+10 | K46: =-K51*K$18 -> -1.1521738e+10
C47: Credit cost (ECL + bad debts written off) | D47: -272561217 | E47: -628220444 | F47: -849021524 | G47: =-G52*G346 -> -8.109552e+08 | H47: =-H52*H346 -> -9.2204363e+08 | I47: =-I52*I346 -> -1.0369646e+09 | J47: =-J52*J346 -> -1.1477128e+09 | K47: =-K52*K346 -> -1.2481569e+09
...

Sheet Residual Income
B2: Residual Income
B3: All amounts are shown in EGP, except per-share data, ratios, and shares outstanding
B4: Most recent fiscal year end | D4: 46022 | F4: Cost of equity (Ke​) | H4: =+'Cost of equity (Ke​)'!C10 -> 0.2819 | I4: Link from Cost of equity (Ke​)
B5: End of first fiscal year | D5: =EOMONTH(D4,12) -> 46387 | F5: Share price (Public Co) | H5: =FSM!D7 -> 24.5
B6: Valuation base date (latest audited balance sheet) | D6: =D4 -> 46022 | F6: Share price date | H6: 46302
B7: Valuation date | D7: 46307 | F7: Implied Share Price | H7: =C49 -> 4.8622683
B8: Portion of First Year Cash Flows | D8: =YEARFRAC(D7,D5) -> 0.21944444 | F8: Upside / (Downside) | H8: =H7/H5-1 -> -0.80154007 | I8: =IF(H8>15%,"BUY",IF(H8<-15%,"SELL","HOLD")) -> SELL
F9: Midyear adjustment? | H9: 0
B10: Book Value Roll-Forward
C11: LTM | D11: Actual | E11: Forecasts
B12: Fiscal year ended | C12: =D7 -> 46307 | D12: =D4 -> 46022 | E12: =EOMONTH(D12,12) -> 46387 | F12: =EOMONTH(E12,12) -> 46752 | G12: =EOMONTH(F12,12) -> 47118 | H12: =EOMONTH(G12,12) -> 47483 | I12: =EOMONTH(H12,12) -> 47848
B14: Opening book value of equity (parent) | D14: =FSM!F110 -> 9115750503 | E14: =FSM!F110 -> 9115750503 | F14: =FSM!G110 -> 1.0879314e+10 | G14: =FSM!H110 -> 1.3131871e+10 | H14: =FSM!I110 -> 1.5727183e+10 | I14: =FSM!J110 -> 1.8698943e+10
B15: Closing book value of equity (parent) | E15: =FSM!G110 -> 1.0879314e+10 | F15: =FSM!H110 -> 1.3131871e+10 | G15: =FSM!I110 -> 1.5727183e+10 | H15: =FSM!J110 -> 1.8698943e+10 | I15: =FSM!K110 -> 2.2165148e+10
B16: Net income (parent share) | D16: =FSM!F35 -> 2018397923 | E16: =FSM!G35 -> 2.0168552e+09 | F16: =FSM!H35 -> 2.4904988e+09 | G16: =FSM!I35 -> 2.9083625e+09 | H16: =FSM!J35 -> 3.3504707e+09 | I16: =FSM!K35 -> 3.9150984e+09
B17: % growth | E17: =E16/D16-1 -> -0.00076432343 | F17: =F16/E16-1 -> 0.23484264 | G17: =G16/F16-1 -> 0.16778313 | H17: =H16/G16-1 -> 0.15201274 | I17: =I16/H16-1 -> 0.16852191
B18: Comprehensive income to shareholders (change in book value) | E18: =E15-E14-FSM!G396 -> 1.7635637e+09 | F18: =F15-F14-FSM!H396 -> 2.2525569e+09 | G18: =G15-G14-FSM!I396 -> 2.5953122e+09 | H18: =H15-H14-FSM!J396 -> 2.9717597e+09 | I18: =I15-I14-FSM!K396 -> 3.4662052e+09
B19: ROE = comprehensive income / opening book value | E19: =E18/E14 -> 0.19346335 | F19: =F18/F14 -> 0.20704953 | G19: =G18/G14 -> 0.19763461 | H19: =H18/H14 -> 0.18895689 | I19: =I18/I14 -> 0.18536905
B21: Cost of equity (Ke​) | E21: =$H$4 -> 0.2819 | F21: =$H$4 -> 0.2819 | G21: =$H$4 -> 0.2819 | H21: =$H$4 -> 0.2819 | I21: =$H$4 -> 0.2819
B23: ROE - Ke (value is created only when this is positive) | E23: =E19-E21 -> -0.088436645 | F23: =F19-F21 -> -0.074850468 | G23: =G19-G21 -> -0.084265392 | H23: =H19-H21 -> -0.092943109 | I23: =I19-I21 -> -0.096530955
B25: Equity charge = Ke(t) × opening book value | E25: =E14*E21 -> 2.5697301e+09 | F25: =F14*F21 -> 3.0668787e+09 | G25: =G14*G21 -> 3.7018745e+09 | H25: =H14*H21 -> 4.433493e+09 | I25: =I14*I21 -> 5.271232e+09
B27: Residual income = comprehensive income - equity charge | E27: =E18-E25 -> -8.0616639e+08 | F27: =F18-F25 -> -8.1432175e+08 | G27: =G18-G25 -> -1.1065623e+09 | H27: =H18-H25 -> -1.4617333e+09 | I27: =I18-I25 -> -1.8050268e+09
B29: ="Present value of residual income at "&TEXT(D6,"mmm dd, yyyy")&" (base date)" -> Present value of residual income at Dec 31, 2025 (base date)
D30: Base date | E30: Year 1 | F30: Year 2 | G30: Year 3 | H30: Year 4 | I30: Year 5
B31: Date for discounting cash flows | D31: =D6 -> 46022 | E31: =IF($H$9=1,AVERAGE(E12,D31),E12) -> 46387 | F31: =IF($H$9=1,AVERAGE(F12,E12),F12) -> 46752 | G31: =IF($H$9=1,AVERAGE(G12,F12),G12) -> 47118 | H31: =IF($H$9=1,AVERAGE(H12,G12),H12) -> 47483 | I31: =IF($H$9=1,AVERAGE(I12,H12),I12) -> 47848
B32: Residual Income (Stub-Adjusted) | C32: =D8 -> 0.21944444 | E32: =E27 -> -8.0616639e+08 | F32: =F27 -> -8.1432175e+08 | G32: =G27 -> -1.1065623e+09 | H32: =H27 -> -1.4617333e+09 | I32: =I27 -> -1.8050268e+09
B33: Present value of residual income | E33: =E32/(1+$H$4)^((E31-$D$31)/365) -> -6.2888399e+08 | F33: =F32/(1+$H$4)^((F31-$D$31)/365) -> -4.955503e+08 | G33: =G32/(1+$H$4)^((G31-$D$31)/365) -> -5.2494998e+08 | H33: =H32/(1+$H$4)^((H31-$D$31)/365) -> -5.4094868e+08 | I33: =I32/(1+$H$4)^((I31-$D$31)/365) -> -5.2109563e+08
B35: Terminal value - growth in perpetuity approach
B36: Long-term growth of residual income (persistence case) | C36: 0 | D36: 1 | E36: 1 = residual income fades to zero after 2030 (base); 0 = persists, growing at C36
B37: Terminal year residual income x (1+g) | C37: =I27*(1+C36) -> -1.8050268e+09
B38: ="Terminal value at end of "&YEAR(I12) -> Terminal value at end of 2030 | C38: =IF($D$36=1,0,C37/($H$4-C36)) -> 0
B39: Present value of terminal value | C39: =C38/(1+$H$4)^YEARFRAC($D$31,$I$31) -> 0
B40: Present value of stage 1 residual income | C40: =SUM(E33:I33) -> -2.7114286e+09
B41: ="Equity value at "&TEXT(D6,"dd mmm yyyy")&" (book value + PV of residual income)" -> Equity value at 31 Dec 2025 (book value + PV of residual income) | C41: =D14+C40+C39 -> 6.4043219e+09
B42: ="Equity value at "&TEXT(D7,"dd mmm yyyy")&" (rolled forward at Ke)" -> Equity value at 12 Oct 2026 (rolled forward at Ke) | C42: =C41*(1+$H$4)^YEARFRAC($D$6,$D$7) -> 7.7796293e+09
B43: Implied P/B on 31 Dec 2025 book value | C43: =C42/D14 -> 0.85342719
B45: Valuation | E45: Shares outstanding
B47: Equity value | C47: =C42 -> 7.7796293e+09 | G47: Source doc | H47: Date | I47: Shares
B48: Shares outstanding | C48: =I53 -> 1600000000 | E48: Basic shares | G48: Consolidated FS 2025 | H48: 12/31/2025 | I48: 1600000000
B49: Equity value per share | C49: =C47/C48 -> 4.8622683 | E49: Restricted stock / RSUs
B50: Equity value per share "USD" | C50: =C49/C51 -> 0.097245366 | E50: Options / warrants
...

Sheet Cost of equity (Ke​)
B2: Cost of equity (Ke​)
B3: All amounts are shown in EGP, except per-share data, ratios, and shares outstanding
B4: Cost of equity (Ke​) assumptions
B6: Risk free rate | C6: 0.2334
B7: Beta | C7: =IF(C21="Blume-adjusted",C24,C23) -> 0.97
B8: Equity risk premium (mature market) | C8: 0.05
B10: Cost of equity (Ke​) = Rf + beta x ERP | C10: =C6+C7*C8 -> 0.2819
B12: Cost of equity (Ke​) sensitivity to MRP and Beta
D13: Beta
C14: =C10 -> 0.2819 | D14: =E14-0.1 -> 0.87 | E14: 0.97 | F14: =E14+0.1 -> 1.07
C15: =C16-0.005 -> 0.04 | D15: 0.2682 | E15: 0.2722 | F15: 0.2762
B16: Market | C16: =C17-0.005 -> 0.045 | D16: 0.27255 | E16: 0.27705 | F16: 0.28155
B17: Risk | C17: 0.05 | D17: 0.2769 | E17: 0.2819 | F17: 0.2869
B18: Premium | C18: =C17+0.005 -> 0.055 | D18: 0.28125 | E18: 0.28675 | F18: 0.29225
C19: =C18+0.005 -> 0.06 | D19: 0.2856 | E19: 0.2916 | F19: 0.2976
B21: Select beta for model | C21: Industry
B23: Industry beta (Damodaran, Financial Svcs. non-bank & insurance) | C23: 0.97
B24: Blume-adjusted beta = 2/3 x beta + 1/3 | C24: =2/3*C23+1/3 -> 0.98

Sheet Trading Comps
B2: Comparable Companies Analysis (Trading Comps)
B4: Refresh date: | C4: 46307
B6: GENERAL INFORMATION
B7: Ticker | C7: FWRY.CA | D7: EFIH.CA | E7: CNFN.CA | F7: CICH.CA | G7: HALN.CA
B8: Company | C8: Fawry for Banking Tech | D8: e-finance for Digital Invest | E8: Contact Financial Holding | F8: CI Capital Holding | G8: MNT Tech Holding for Financial Investments
B9: Exchange / Currency | C9: EGX / EGP | D9: EGX / EGP | E9: EGX / EGP | F9: EGX / EGP | G9: EGX / EGP
B10: Fiscal year end | C10: 46022 | D10: 46022 | E10: 46022 | F10: 46022 | G10: 46022
B11: Last closing price | C11: 18.7 | D11: 24.1 | E11: 3.92 | F11: 11.3 | G11: 24.5
B12: Price as of | C12: =$C$4 -> 46307 | D12: =$C$4 -> 46307 | E12: =$C$4 -> 46307 | F12: =$C$4 -> 46307 | G12: 46302
B14: FULLY DILUTED SHARES
B15: Basic shares outstanding | C15: 3406523244 | D15: 3466666667 | E15: 1196974000 | F15: 1000000000 | G15: =FSM!D10 -> 1600000000
B16: Options / RSUs / other dilution | C16: 0 | D16: 0 | E16: 0 | F16: 0 | G16: ='Residual Income'!I49 -> 0
B17: Fully diluted shares | C17: =SUM(C15:C16) -> 3406523244 | D17: =SUM(D15:D16) -> 3466666667 | E17: =SUM(E15:E16) -> 1196974000 | F17: =SUM(F15:F16) -> 1000000000 | G17: =SUM(G15:G16) -> 1600000000
B19: MARKET VALUATION
B20: Market Capitalization | C20: =C17*C11 -> 6.3701985e+10 | D20: =D17*D11 -> 8.3546667e+10 | E20: =E17*E11 -> 4692138080 | F20: =F17*F11 -> 11300000000 | G20: =G17*G11 -> 39200000000
B22: LTM FINANCIALS
B23: Net Income (Parent Shareholders) | C23: 2889189159 | D23: 2405402468 | E23: 345095303 | F23: 1613087731 | G23: =FSM!F35 -> 2018397923
B24: Total Shareholders' Equity (Parent) | C24: 7730539324 | D24: 8626198716 | E24: 4418892184 | F24: 7881594898 | G24: =FSM!F110 -> 9115750503
B25: Less: Goodwill | C25: -91606292 | D25: 0 | E25: -32216199 | F25: -383036441 | G25: =-FSM!F379 -> -36923005
B26: Less: Intangible Assets | C26: -1488621582 | D26: -167040739 | E26: -78979915 | F26: -62575556 | G26: =-FSM!F381 -> -503311305
B27: Tangible Book Value (TBV) | C27: =SUM(C24:C26) -> 6150311450 | D27: =SUM(D24:D26) -> 8459157977 | E27: =SUM(E24:E26) -> 4307696070 | F27: =SUM(F24:F26) -> 7435982901 | G27: =SUM(G24:G26) -> 8575516193
B29: TRADING MULTIPLES
B30: P/E (LTM) | C30: =C20/C23 -> 22.048395 | D30: =D20/D23 -> 34.732926 | E30: =E20/E23 -> 13.596644 | F30: =F20/F23 -> 7.0051987 | G30: =G20/G23 -> 19.421344
B31: P/B (LTM) | C31: =C20/C24 -> 8.2403028 | D31: =D20/D24 -> 9.685224 | E31: =E20/E24 -> 1.0618358 | F31: =F20/F24 -> 1.43372 | G31: =G20/G24 -> 4.3002493
B32: P/TBV (LTM) | C32: =C20/C27 -> 10.357522 | D32: =D20/D27 -> 9.8764755 | E32: =E20/E27 -> 1.0892454 | F32: =F20/F27 -> 1.5196377 | G32: =G20/G27 -> 4.5711534
B33: ROE (LTM) | C33: =C23/C24 -> 0.37373708 | D33: =D23/D24 -> 0.27884849 | E33: =E23/E24 -> 0.078095434 | F33: =F23/F24 -> 0.20466514 | G33: =G23/G24 -> 0.22141873
B35: PEER STATISTICS
C36: P/E (all) | D36: P/B (lenders) | E36: P/TBV (lenders) | F36: ROE (all)
B38: Mean | C38: =AVERAGE(C30:F30) -> 19.345791 | D38: =AVERAGE(E31:F31) -> 1.2477779 | E38: =AVERAGE(E32:F32) -> 1.3044415 | F38: =AVERAGE(C33:F33) -> 0.23383653
B39: Median | C39: =MEDIAN(C30:F30) -> 17.82252 | D39: =MEDIAN(E31:F31) -> 1.2477779 | E39: =MEDIAN(E32:F32) -> 1.3044415 | F39: =MEDIAN(C33:F33) -> 0.24175681
B40: High | C40: =MAX(C30:F30) -> 34.732926 | D40: =MAX(E31:F31) -> 1.43372 | E40: =MAX(E32:F32) -> 1.5196377 | F40: =MAX(C33:F33) -> 0.37373708
B41: Low | C41: =MIN(C30:F30) -> 7.0051987 | D41: =MIN(E31:F31) -> 1.0618358 | E41: =MIN(E32:F32) -> 1.0892454 | F41: =MIN(C33:F33) -> 0.078095434
B43: IMPLIED VALUATION (from peer MEDIAN multiples)
B44: Via P/E:
B45: Peer median P/E | C45: =C39 -> 17.82252
B46: x LTM net income | C46: =$G$23 -> 2018397923
B47: Implied equity value | C47: =C45*C46 -> 3.5972937e+10
B48: Fully diluted shares | C48: =$G$15 -> 1600000000
B49: Implied value per share | C49: =C47/C48 -> 22.483086
B51: Via Lender Median P/B:
...
